BEGIN:VCALENDAR
VERSION:2.0
PRODID:-//Piccoli Labirinti - ECPv6.15.17.1//NONSGML v1.0//EN
CALSCALE:GREGORIAN
METHOD:PUBLISH
X-ORIGINAL-URL:https://www.piccolilabirinti.com
X-WR-CALDESC:Eventi per Piccoli Labirinti
REFRESH-INTERVAL;VALUE=DURATION:PT1H
X-Robots-Tag:noindex
X-PUBLISHED-TTL:PT1H
BEGIN:VTIMEZONE
TZID:Europe/Rome
BEGIN:DAYLIGHT
TZOFFSETFROM:+0100
TZOFFSETTO:+0200
TZNAME:CEST
DTSTART:20180325T010000
END:DAYLIGHT
BEGIN:STANDARD
TZOFFSETFROM:+0200
TZOFFSETTO:+0100
TZNAME:CET
DTSTART:20181028T010000
END:STANDARD
BEGIN:DAYLIGHT
TZOFFSETFROM:+0100
TZOFFSETTO:+0200
TZNAME:CEST
DTSTART:20190331T010000
END:DAYLIGHT
BEGIN:STANDARD
TZOFFSETFROM:+0200
TZOFFSETTO:+0100
TZNAME:CET
DTSTART:20191027T010000
END:STANDARD
BEGIN:DAYLIGHT
TZOFFSETFROM:+0100
TZOFFSETTO:+0200
TZNAME:CEST
DTSTART:20200329T010000
END:DAYLIGHT
BEGIN:STANDARD
TZOFFSETFROM:+0200
TZOFFSETTO:+0100
TZNAME:CET
DTSTART:20201025T010000
END:STANDARD
END:VTIMEZONE
BEGIN:VEVENT
DTSTART;TZID=Europe/Rome:20190921T180000
DTEND;TZID=Europe/Rome:20190921T200000
DTSTAMP:20260421T231445
CREATED:20190921T135130Z
LAST-MODIFIED:20190921T135551Z
UID:6061-1569088800-1569096000@www.piccolilabirinti.com
SUMMARY:Andrea Oliverio presenta "L'inviato di Cesare"
DESCRIPTION:Andrea Oliverio presenta il suo romanzo d’esordio “L’inviato di Cesare” pubblicato con Aporema Edizioni \nL’inviato di Cesare
URL:https://www.piccolilabirinti.com/eventi/andrea-oliverio-presenta-linviato-di-cesare/
LOCATION:PARMA
CATEGORIES:Eventi,letture,presentazione libri
ATTACH;FMTTYPE=image/jpeg:https://www.piccolilabirinti.com/wp-content/uploads/2019/09/oliverio.jpg
END:VEVENT
END:VCALENDAR